BEGIN:VCALENDAR
VERSION:2.0
PRODID:-//Acorn Community Care - ECPv6.15.20//NONSGML v1.0//EN
CALSCALE:GREGORIAN
METHOD:PUBLISH
X-WR-CALNAME:Acorn Community Care
X-ORIGINAL-URL:https://acorncommunity.care
X-WR-CALDESC:Events for Acorn Community Care
REFRESH-INTERVAL;VALUE=DURATION:PT1H
X-Robots-Tag:noindex
X-PUBLISHED-TTL:PT1H
BEGIN:VTIMEZONE
TZID:UTC
BEGIN:STANDARD
TZOFFSETFROM:+0000
TZOFFSETTO:+0000
TZNAME:UTC
DTSTART:20230101T000000
END:STANDARD
END:VTIMEZONE
BEGIN:VEVENT
DTSTART;TZID=UTC:20240218T123000
DTEND;TZID=UTC:20240308T193000
DTSTAMP:20260424T153154
CREATED:20240130T091630Z
LAST-MODIFIED:20240130T092407Z
UID:5199-1708259400-1709926200@acorncommunity.care
SUMMARY:Fancy a Curry ???
DESCRIPTION:  \nPut 18th February in your diary when Spice 4 U and Pickering Rotary Club are getting together for a fundraiser where proceeds are donated to Acorn Community Care. A choice of 3 sittings and a 3 course meal at Spice 4 U at a bargain price. \nPlease click on the link below to see the full details. Places go quickly so get your table booked! \nCurry Event February 2024
URL:https://acorncommunity.care/event/fancy-a-curry/
CATEGORIES:General Events
END:VEVENT
END:VCALENDAR