BEGIN:VCALENDAR
VERSION:2.0
PRODID:-//Acorn Community Care - ECPv6.15.20//NONSGML v1.0//EN
CALSCALE:GREGORIAN
METHOD:PUBLISH
X-WR-CALNAME:Acorn Community Care
X-ORIGINAL-URL:https://acorncommunity.care
X-WR-CALDESC:Events for Acorn Community Care
REFRESH-INTERVAL;VALUE=DURATION:PT1H
X-Robots-Tag:noindex
X-PUBLISHED-TTL:PT1H
BEGIN:VTIMEZONE
TZID:UTC
BEGIN:STANDARD
TZOFFSETFROM:+0000
TZOFFSETTO:+0000
TZNAME:UTC
DTSTART:20220101T000000
END:STANDARD
END:VTIMEZONE
BEGIN:VEVENT
DTSTART;TZID=UTC:20240218T123000
DTEND;TZID=UTC:20240308T193000
DTSTAMP:20260422T215112
CREATED:20240130T091630Z
LAST-MODIFIED:20240130T092407Z
UID:5199-1708259400-1709926200@acorncommunity.care
SUMMARY:Fancy a Curry ???
DESCRIPTION:  \nPut 18th February in your diary when Spice 4 U and Pickering Rotary Club are getting together for a fundraiser where proceeds are donated to Acorn Community Care. A choice of 3 sittings and a 3 course meal at Spice 4 U at a bargain price. \nPlease click on the link below to see the full details. Places go quickly so get your table booked! \nCurry Event February 2024
URL:https://acorncommunity.care/event/fancy-a-curry/
CATEGORIES:General Events
END:VEVENT
BEGIN:VEVENT
DTSTART;TZID=UTC:20231215T190000
DTEND;TZID=UTC:20231215T230000
DTSTAMP:20260422T215112
CREATED:20230712T141925Z
LAST-MODIFIED:20231031T111004Z
UID:5059-1702666800-1702681200@acorncommunity.care
SUMMARY:Christmas Party 2023
DESCRIPTION:
URL:https://acorncommunity.care/event/christmas-party-2023/
CATEGORIES:General Events
ATTACH;FMTTYPE=image/jpeg:https://acorncommunity.care/wp-content/uploads/2022/11/0e8a775977730e33cc975b40e4f78dc0.jpg
END:VEVENT
BEGIN:VEVENT
DTSTART;TZID=UTC:20230802T080000
DTEND;TZID=UTC:20230802T170000
DTSTAMP:20260422T215112
CREATED:20230405T110459Z
LAST-MODIFIED:20230405T110459Z
UID:4936-1690963200-1690995600@acorncommunity.care
SUMMARY:Attending Thornton Le Dale Show
DESCRIPTION:
URL:https://acorncommunity.care/event/attending-thornton-le-dale-show/
CATEGORIES:General Events
END:VEVENT
BEGIN:VEVENT
DTSTART;TZID=UTC:20230725T080000
DTEND;TZID=UTC:20230725T170000
DTSTAMP:20260422T215112
CREATED:20230405T110419Z
LAST-MODIFIED:20230405T110419Z
UID:4934-1690272000-1690304400@acorncommunity.care
SUMMARY:Attending Ryedale Show
DESCRIPTION:
URL:https://acorncommunity.care/event/attending-ryedale-show/
CATEGORIES:General Events
END:VEVENT
BEGIN:VEVENT
DTSTART;TZID=UTC:20230501T080000
DTEND;TZID=UTC:20230501T170000
DTSTAMP:20260422T215112
CREATED:20230405T110337Z
LAST-MODIFIED:20230405T110337Z
UID:4932-1682928000-1682960400@acorncommunity.care
SUMMARY:Attending Duncombe Park Country Fair
DESCRIPTION:
URL:https://acorncommunity.care/event/attending-duncombe-park-country-fair/
CATEGORIES:General Events
END:VEVENT
BEGIN:VEVENT
DTSTART;VALUE=DATE:20230116
DTEND;VALUE=DATE:20230217
DTSTAMP:20260422T215112
CREATED:20230110T121604Z
LAST-MODIFIED:20230110T124217Z
UID:4910-1673827200-1676591999@acorncommunity.care
SUMMARY:Ollie Varey Fitness Challenge
DESCRIPTION:Ollie is a local personal trainer\, working at Norton swimming baths. Ollie approached Acorn as he wants to ‘give a little back’ to the local community charities by fundraising through exercise and awareness. His plan is to choose a local charity/organisation every month and raise awareness of the amazing things they do and the cause they are continually working to help and aid. \n⭐️GIVE A LITTLE BACK⭐️ \nSo what is Ollie going to do ……………………………. \nStarting Monday 16th January Ollie will be setting himself some targets and aims to Run/Walk – 100km\, Bike – 300km\, Cross trainer – 200km\, Swim – 5 miles in a month and do 100 Press ups a day. Basically\, he will be doing as many events as possible along with his own triathlons. Ollie will also be running exercises classes for the people we support at Acorn during this month. \nOllie is inspired by an inspirational quote from the superman that is Kevin Sinfield\, “If we all try and be a bit of a better friend from time to time then we might have a bit of a better place to live in” \nIf you wish to support Ollie please visit his ‘Go Fund me‘ Facebook page where you can donate. \n  \n 
URL:https://acorncommunity.care/event/ollie-varey-fitness-challenge/
CATEGORIES:General Events
END:VEVENT
END:VCALENDAR